BEGIN:VCALENDAR
VERSION:2.0
PRODID:-//Lautman Maska Neill and Company - ECPv6.15.20//NONSGML v1.0//EN
CALSCALE:GREGORIAN
METHOD:PUBLISH
X-ORIGINAL-URL:https://www.lautmandc.com
X-WR-CALDESC:Events for Lautman Maska Neill and Company
REFRESH-INTERVAL;VALUE=DURATION:PT1H
X-Robots-Tag:noindex
X-PUBLISHED-TTL:PT1H
BEGIN:VTIMEZONE
TZID:America/New_York
BEGIN:DAYLIGHT
TZOFFSETFROM:-0500
TZOFFSETTO:-0400
TZNAME:EDT
DTSTART:20250309T070000
END:DAYLIGHT
BEGIN:STANDARD
TZOFFSETFROM:-0400
TZOFFSETTO:-0500
TZNAME:EST
DTSTART:20251102T060000
END:STANDARD
BEGIN:DAYLIGHT
TZOFFSETFROM:-0500
TZOFFSETTO:-0400
TZNAME:EDT
DTSTART:20260308T070000
END:DAYLIGHT
BEGIN:STANDARD
TZOFFSETFROM:-0400
TZOFFSETTO:-0500
TZNAME:EST
DTSTART:20261101T060000
END:STANDARD
BEGIN:DAYLIGHT
TZOFFSETFROM:-0500
TZOFFSETTO:-0400
TZNAME:EDT
DTSTART:20270314T070000
END:DAYLIGHT
BEGIN:STANDARD
TZOFFSETFROM:-0400
TZOFFSETTO:-0500
TZNAME:EST
DTSTART:20271107T060000
END:STANDARD
END:VTIMEZONE
BEGIN:VEVENT
DTSTART;VALUE=DATE:20260310
DTEND;VALUE=DATE:20260314
DTSTAMP:20260424T074344
CREATED:20260302T161940Z
LAST-MODIFIED:20260303T000742Z
UID:10000097-1773100800-1773446399@www.lautmandc.com
SUMMARY:2026 Nonprofit Technology Conference
DESCRIPTION:JOIN US \nWednesday\, March 11\, 2026\n2:00 – 3:00 pm ET \nA-list Engagement: Building a Thriving SMS program\nTired of fighting for attention in crowded inboxes? Bread for the World was too. They needed a fresh way to connect with their supporters — one that would deepen relationships\, inspire action\, and drive sustained support. In this interactive workshop\, you’ll go beyond the case study and roll up your sleeves. Together\, we’ll walk through how Bread for the World\, with Engaging Networks and Lautman\, Maska\, Neill & Company\, built a thriving SMS program — from making the internal case\, to setting up processes\, growing the list\, developing strategy\, and measuring results. We’ll work through the entire process together\, from making the internal case for SMS to setting up processes and a growth strategy. You’ll leave with practical tools and templates you can use right away! \nLearning Objectives \n\nWhy SMS is a key channel to amplify your existing communication priorities.\nHow to get buy-in from key internal stakeholders to invest in this channel.\nDiscover how to work effectively with copywriters\, agencies\, and organizations to craft winning fundraising copy together.\n\nSpeakers \n\n\n\nSEAN WAGMAN\nDigital Account Director\nLautman Maska Neill & Co. \n\nSUSANNA BEAN-JONES\nDeputy Director for Membership Giving\nBread for the World \nSEAN DOTSON\nAccount Manager\nEngaging Networks \n\n\n 
URL:https://www.lautmandc.com/event/2026-nonprofit-technology-conference/
ATTACH;FMTTYPE=image/png:https://www.lautmandc.com/wp-content/uploads/2026/03/Screenshot-2026-03-02-at-11.18.53-AM.png
END:VEVENT
BEGIN:VEVENT
DTSTART;VALUE=DATE:20260323
DTEND;VALUE=DATE:20260326
DTSTAMP:20260424T074344
CREATED:20240205T215509Z
LAST-MODIFIED:20260311T174110Z
UID:10000081-1774224000-1774483199@www.lautmandc.com
SUMMARY:2026 Meals on Wheels California Conference
DESCRIPTION:JOIN US \nMonday\, March 23\, 2026\n11:00 AM \n30 Ideas in 60 Minutes: Your Hour of Creative Power\nLooking for fresh\, actionable ideas to elevate your fundraising? This fast-paced\, high-energy session delivers 30 proven strategies in just 60 minutes from leading experts in direct marketing. You’ll leave with practical tips you can implement immediately to boost revenue\, increase donor retention\, and reduce costs – all without sacrificing impact. \nPresented by: \n\n\n\nLautman Meals on Wheels Fundraising Co-op
URL:https://www.lautmandc.com/event/2026-meals-on-wheels-california-conference/
LOCATION:San Diego\, CA
ATTACH;FMTTYPE=image/png:https://www.lautmandc.com/wp-content/uploads/2024/02/Artboard-1.png
END:VEVENT
BEGIN:VEVENT
DTSTART;VALUE=DATE:20260325
DTEND;VALUE=DATE:20260328
DTSTAMP:20260424T074344
CREATED:20250113T192354Z
LAST-MODIFIED:20260205T152606Z
UID:10000092-1774396800-1774655999@www.lautmandc.com
SUMMARY:2026 Nonprofit Fundraisers Symposium
DESCRIPTION:JOIN US \nMarch 25\, 2026 – March 27\, 2026 \nGet ready for an exhilarating experience! Unlock possibilities by exploring innovative strategies and emerging trends to elevate your organization’s fundraising potential. Build meaningful partnerships with nonprofit leaders and service providers to foster collaboration and sector-wide impact. Drive progress with actionable insights and best practices designed to address challenges and ensure sustainable growth. Exclusively tailored for professionals with 10+ years of experience\, this transformative event is your chance to unlock new opportunities\, forge impactful connections\, and confidently shape the future of our sector. Don’t miss out—join us and secure your spot today!
URL:https://www.lautmandc.com/event/2026-nonprofit-fundraisers-symposium/
LOCATION:Washington\, DC
ATTACH;FMTTYPE=image/png:https://www.lautmandc.com/wp-content/uploads/2025/01/DMAW-NPS-website-2026.png
END:VEVENT
BEGIN:VEVENT
DTSTART;VALUE=DATE:20260414
DTEND;VALUE=DATE:20260416
DTSTAMP:20260424T074344
CREATED:20260205T154531Z
LAST-MODIFIED:20260205T155044Z
UID:10000096-1776124800-1776297599@www.lautmandc.com
SUMMARY:2026 Mid-Level Giving Benchmarking Summit
DESCRIPTION:JOIN US \nApril 14-15\, 2026 \nWe’re excited to share that we’ll be attending this year’s Mid-Level Giving Summit\, a dynamic gathering that brings together more than 45 organizations and 90+ peers who are shaping the future of mid-level programs. With two full days of workshops\, hands-on problem solving\, and big-picture insights\, the Summit is packed with opportunities to learn\, connect\, and spark new ideas. We’re looking forward to diving into the data\, joining thoughtful conversations\, and bringing back fresh strategies to strengthen the mid-level donor experience. It’s going to be an inspiring couple of days\, and we can’t wait to be part of it!
URL:https://www.lautmandc.com/event/2367/
ATTACH;FMTTYPE=image/png:https://www.lautmandc.com/wp-content/uploads/2026/02/Screenshot-2026-02-05-at-10.20.37-AM.png
END:VEVENT
END:VCALENDAR